BEGIN:VCALENDAR
VERSION:2.0
PRODID:-//CENTERED Hawaii - ECPv6.15.17.1//NONSGML v1.0//EN
CALSCALE:GREGORIAN
METHOD:PUBLISH
X-ORIGINAL-URL:https://www.centeredpresents.com
X-WR-CALDESC:Events for CENTERED Hawaii
REFRESH-INTERVAL;VALUE=DURATION:PT1H
X-Robots-Tag:noindex
X-PUBLISHED-TTL:PT1H
BEGIN:VTIMEZONE
TZID:Pacific/Honolulu
BEGIN:STANDARD
TZOFFSETFROM:-1000
TZOFFSETTO:-1000
TZNAME:HST
DTSTART:20230101T000000
END:STANDARD
END:VTIMEZONE
BEGIN:VEVENT
DTSTART;TZID=Pacific/Honolulu:20241122T235900
DTEND;TZID=Pacific/Honolulu:20241123T060000
DTSTAMP:20260419T183414
CREATED:20241122T071458Z
LAST-MODIFIED:20241122T071623Z
UID:10000415-1732319940-1732341600@www.centeredpresents.com
SUMMARY:Centered Afterhours - Elsingersson (CA)\, Solomundo\, Alari Teede B2B Don Yuan
DESCRIPTION:Friday\, Nov 22nd \nCENTERED AFTERHOURS @ ANURA\n  \nLINEUP: \nMidnight-1:30AM | ALARI TEEDE B2B DON YUAN\n1:30-3AM | ELSINGERSSON (LAGUNA\, CA)\n3-5A | SOLOMUNDO\n5-6A | RESIDENTS\n  \nHawaii’s most infamous afterhours house/techno warehouse\, Anura\, every Friday and Saturday night\, open late. \n  \n1388 Colburn St. | 21+ \ncenteredpresents.com
URL:https://www.centeredpresents.com/event/centered-afterhours-elsingersson-solomundo-alari-teede-b2b-don-yuan/
LOCATION:ANURA\, 1388 Colburn St.\, Honolulu\, HI\, 96817\, United States
ATTACH;FMTTYPE=image/png:https://www.centeredpresents.com/wp-content/uploads/2024/11/11.22event.png
GEO:21.3230473;-157.8760741
X-APPLE-STRUCTURED-LOCATION;VALUE=URI;X-ADDRESS=ANURA 1388 Colburn St. Honolulu HI 96817 United States;X-APPLE-RADIUS=500;X-TITLE=1388 Colburn St.:geo:-157.8760741,21.3230473
END:VEVENT
BEGIN:VEVENT
DTSTART;TZID=Pacific/Honolulu:20241116T235900
DTEND;TZID=Pacific/Honolulu:20241118T060000
DTSTAMP:20260419T183414
CREATED:20241108T000022Z
LAST-MODIFIED:20241108T000049Z
UID:10000410-1731801540-1731909600@www.centeredpresents.com
SUMMARY:Centered: Experience 'Official' Afterparty - Fabrizio Mammarella (Slow Motion Records | Wrong Era | Italy)
DESCRIPTION:Saturday\, Nov 16th \nCENTERED: EXPERIENCE ‘OFFICIAL’ AFTERPARTY\n  \nFABRIZIO MAMMARELLA \n(SLOW MOTION RECORDS | WRONG ERA | ITALY) \nBio: \nFabrizio Mammarella is an Italian selector\, producer and label owner among many other things in the world of Music. Boasting a discography that includes dozens of clubbing anthems\, remixes\, as well as successful collaborations with Lauer (as Black Spuma)\, Rodion\, and Clap Rules; he is also the “one man band” in Telespazio\, an infamous side project focusing more on experimental music. Since his first release in 2004\, Fabrizio has been constantly delivering hits for labels such as DFA\, Permanent Vacation\, Correspondant\, Les Disques De La Mort\, Future Boogie and his own imprint Slow Motion Music / Wrong Era records\, leading the Italian Dance Wave movement for over ten years. Fabrizio is also the head behind Emet\, a record label centred on limited special releases crawling in the realm of weirdo electronic music\, especially cut for the quirkiest and demanding dancefloors. Fabrizio has played and hosted label nights at some of the best clubs and festivals around the globe\, with regular nights in Berlin and his home country of Italy. He is definitely not moving in slow motion. \n  \nGUILIA GUTTERER\n(SLOW MOTION RECORDS | WRONG ERA | ITALY) \nBio: \nGiulia Gutterer\, original child of Italy’s Bolzano mountains and land of delicious cow’s milk\, has migrated the cream of Italo to the centre of Berlin’s club scene. \nEqually obsessive about Hi-NRG\, Downtempo\, New Beat\, Dark & Nu Disco she quests through the dirtiest depths of the internet and record stores for rhythms so inviting that you can’t help but bathe\, kick and writhe in the sludge and dust with her. She’s raised iconic dancefloors worldwide with a style that is an eclectic swag of sex\, humour and psychedelia. A collision of expansive beats and seductive evolving moods that have hypnotized Berlin’s audiences at Berghain’s Panorama Bar for Italorama\, Cocktail d’Amore\, Salon zur Wilden Renate\, RSO\, and Sisyphos to mention a few. \nThough she’s “just a DJ\, not a f***ing neurosurgeon”\, she is the rock and caretaker of Wrong Era and Slow Motion organizations and parties all over the world; notorious\, sweaty meet-ups for all the “not-too-hard tunz” music lovers. \n  \nSUPPORT:  \n(A-Z) \nCHRIS COSMO (ALOHA-MORE)\nJIMMY SAN (PARADISCO)\nJTJ (SLOTH ACID | LOS ANGELES)\nMIKO FRANCONI (CENTERED)\nTROPIC BOMBA (LIT & BEYOND)\n  \n$15 entry with with EXPERIENCE wristband | $40 w/0 \nANURA \n1388 COLBURN ST. \nCENTEREDPRESENTS.COM
URL:https://www.centeredpresents.com/event/official-centered-experience-afterparty-fabrizio-mammarella-slow-motion-records-wrong-era-italy/
LOCATION:ANURA\, 1388 Colburn St.\, Honolulu\, HI\, 96817\, United States
ATTACH;FMTTYPE=image/png:https://www.centeredpresents.com/wp-content/uploads/2024/11/apexpEVENT-2.png
GEO:21.3230473;-157.8760741
X-APPLE-STRUCTURED-LOCATION;VALUE=URI;X-ADDRESS=ANURA 1388 Colburn St. Honolulu HI 96817 United States;X-APPLE-RADIUS=500;X-TITLE=1388 Colburn St.:geo:-157.8760741,21.3230473
END:VEVENT
BEGIN:VEVENT
DTSTART;TZID=Pacific/Honolulu:20241109T235900
DTEND;TZID=Pacific/Honolulu:20241110T060000
DTSTAMP:20260419T183414
CREATED:20241106T025907Z
LAST-MODIFIED:20241106T025907Z
UID:10000409-1731196740-1731218400@www.centeredpresents.com
SUMMARY:Centered Afterhours\, Baby Cakes\, Tropic Bomba\, MOOI b2b Margot Bloom\, Lufa\, Hi-C
DESCRIPTION:Saturday\, Nov 9th \n  \nCENTERED AFTERHOURS @ ANURA\n  \nUpstairs: \n12-130A | MOOI B2B MARGOT BLOOM\n130-3 | BABY CAKES\n3-5 | TROPIC BOMBA\n5-6A | RESIDENTS\n  \nDownstairs: \nLUFA & HIGHER CONCEPT (ALL NIGHT)\n  \nMeet us at Hawaii’s only two story afterhours warehouse every weekend for Centered After Hours featuring international and local DJ’s all night long. \n  \nANURA \nMidnight-Dawn \ncenteredpresents.com \n  \n\n 
URL:https://www.centeredpresents.com/event/centered-afterhours-baby-cakes-tropic-bomba-mooi-b2b-margot-bloom-lufa-hi-c/
LOCATION:ANURA\, 1388 Colburn St.\, Honolulu\, HI\, 96817\, United States
ATTACH;FMTTYPE=image/png:https://www.centeredpresents.com/wp-content/uploads/2024/11/11.9after.png
GEO:21.3230473;-157.8760741
X-APPLE-STRUCTURED-LOCATION;VALUE=URI;X-ADDRESS=ANURA 1388 Colburn St. Honolulu HI 96817 United States;X-APPLE-RADIUS=500;X-TITLE=1388 Colburn St.:geo:-157.8760741,21.3230473
END:VEVENT
BEGIN:VEVENT
DTSTART;TZID=Pacific/Honolulu:20241108T235900
DTEND;TZID=Pacific/Honolulu:20241109T060000
DTSTAMP:20260419T183414
CREATED:20241108T002559Z
LAST-MODIFIED:20241108T003240Z
UID:10000411-1731110340-1731132000@www.centeredpresents.com
SUMMARY:FKN HNL Afterhours @ Anura
DESCRIPTION:Friday\, Nov 8th \nFKN HNL Afterhours @ ANURA\n  \nRICH LATHER\nJUNGLE JESS\nASHLEY AMES\nSLUTTY CONCEPTS\n  \nHawaii’s only 2-story afterhours warehouse in the heart of the industrial zone of HNL. Open Fridays & Saturdays LATE. \n  \nANURA \n1388 COLBURN ST. \nCENTEREDPRESENTS.COM
URL:https://www.centeredpresents.com/event/fkn-hnl-afterhours-anura/
LOCATION:ANURA\, 1388 Colburn St.\, Honolulu\, HI\, 96817\, United States
ATTACH;FMTTYPE=image/png:https://www.centeredpresents.com/wp-content/uploads/2024/11/11.8EVENT-2.png
GEO:21.3230473;-157.8760741
X-APPLE-STRUCTURED-LOCATION;VALUE=URI;X-ADDRESS=ANURA 1388 Colburn St. Honolulu HI 96817 United States;X-APPLE-RADIUS=500;X-TITLE=1388 Colburn St.:geo:-157.8760741,21.3230473
END:VEVENT
BEGIN:VEVENT
DTSTART;TZID=Pacific/Honolulu:20241031T235900
DTEND;TZID=Pacific/Honolulu:20241101T060000
DTSTAMP:20260419T183414
CREATED:20241031T051512Z
LAST-MODIFIED:20241031T060754Z
UID:10000407-1730419140-1730440800@www.centeredpresents.com
SUMMARY:ANURA HALLOWEEN 👻
DESCRIPTION:Thursday\, Oct 31st \n  \nANURA HALLOWEEN\n  \nIt’s all Hallow’s eve and the ghouls are out late\, meet at Anura…. or face a terrible fate! HAPPY HALLOWEEN! 👻 \n  \nLINEUP: \nUpstairs:\nJeff Jolley 11-12:30\nChaddy Daddy 12:30-1:30\nMiko Franconi 1:30-3\nDisco Slut 3-4:30\nSlutty Concepts 4:30-close\nDownstairs:\nSpace Sister 11-12:30\nEmi Afton 12:30-130\nAnnie 1:30-2:30\nAshley Ames 2:30-3:30\nGardel Leal 3:30-5\nPatio:\nBuka 11-12:30\nJungle Jess 12:30-1:30\nChris Cosmo 1:30- 3\nHigher Concept 3-4:30\nBaby Cakes 4:30-close\n  \n$20 COVER BEFORE MIDNIGHT\n———————— \nANURA \n11pm-dawn | 1388 Colburn St \nCENTEREDPRESENTS.COM \n 
URL:https://www.centeredpresents.com/event/anura-halloween-%f0%9f%91%bb/
LOCATION:ANURA\, 1388 Colburn St.\, Honolulu\, HI\, 96817\, United States
ATTACH;FMTTYPE=image/png:https://www.centeredpresents.com/wp-content/uploads/2024/10/HALLOWEEN_24.png
GEO:21.3230473;-157.8760741
X-APPLE-STRUCTURED-LOCATION;VALUE=URI;X-ADDRESS=ANURA 1388 Colburn St. Honolulu HI 96817 United States;X-APPLE-RADIUS=500;X-TITLE=1388 Colburn St.:geo:-157.8760741,21.3230473
END:VEVENT
BEGIN:VEVENT
DTSTART;TZID=Pacific/Honolulu:20241004T235900
DTEND;TZID=Pacific/Honolulu:20241005T060000
DTSTAMP:20260419T183414
CREATED:20240926T215247Z
LAST-MODIFIED:20240926T215358Z
UID:10000392-1728086340-1728108000@www.centeredpresents.com
SUMMARY:Centered + Lit & Beyond presents\, AFTERBURN 2024
DESCRIPTION:Friday\, Oct 4th \n  \nLIT\, CENTERED & BEYOND presents\, \n  \nAFTERBURN 2024\n  \nGet ready to journey into a realm beyond imagination at the Annual AfterBurn Experience! \nHosted at our newly rebranded after-hours warehouse\, ΛＮＵＲΛ. If you know\, you know! \n  \nDate: Friday\, 10/4 \nTime: Midnight-Dawn \nAddress: 1388 Colburn St.\, Honolulu\, Hawaii \n  \nLINEUP:\nMiko Franconi | Tropic Bomba | Giuli G | Benjamin Talmor | Gabriel Sarus | Amazona | KSOL | Gardel | Chaddy Daddy | Kays | BabyCakes | Higher Concept | Jungle Jess | Buka | High Steaks | Yaz Sugar Dada | Firesoup \nJoin us for a memorable night as we celebrate the immersive spirit of Burning Man\, Hawaiian style. \nGrab a presale while you can for this fusion of music\, art\, and the Burning Man spirit!
URL:https://www.centeredpresents.com/event/centered-lit-beyond-presents-afterburn-2024/
LOCATION:ANURA\, 1388 Colburn St.\, Honolulu\, HI\, 96817\, United States
ATTACH;FMTTYPE=image/jpeg:https://www.centeredpresents.com/wp-content/uploads/2024/09/afterburn2.jpg
GEO:21.3230473;-157.8760741
X-APPLE-STRUCTURED-LOCATION;VALUE=URI;X-ADDRESS=ANURA 1388 Colburn St. Honolulu HI 96817 United States;X-APPLE-RADIUS=500;X-TITLE=1388 Colburn St.:geo:-157.8760741,21.3230473
END:VEVENT
END:VCALENDAR