BEGIN:VCALENDAR
VERSION:2.0
PRODID:-//CENTERED Hawaii - ECPv6.15.17.1//NONSGML v1.0//EN
CALSCALE:GREGORIAN
METHOD:PUBLISH
X-WR-CALNAME:CENTERED Hawaii
X-ORIGINAL-URL:https://www.centeredpresents.com
X-WR-CALDESC:Events for CENTERED Hawaii
REFRESH-INTERVAL;VALUE=DURATION:PT1H
X-Robots-Tag:noindex
X-PUBLISHED-TTL:PT1H
BEGIN:VTIMEZONE
TZID:Pacific/Honolulu
BEGIN:STANDARD
TZOFFSETFROM:-1000
TZOFFSETTO:-1000
TZNAME:HST
DTSTART:20250101T000000
END:STANDARD
END:VTIMEZONE
BEGIN:VEVENT
DTSTART;TZID=Pacific/Honolulu:20260424T235900
DTEND;TZID=Pacific/Honolulu:20260425T070000
DTSTAMP:20260423T043149
CREATED:20260423T015024Z
LAST-MODIFIED:20260423T015024Z
UID:21911-1777075140-1777100400@www.centeredpresents.com
SUMMARY:LCB presents - Super Nova Friday @ Anura
DESCRIPTION:Friday\, April 24th \nLit\, Centered & Beyond are back with another SUPER NOVA FRIDAY to keep you in orbit. We’ve got an insane B2B for you this week\, two of your favorite residents are sharing the booth for an onslaught set from 230-330A peak! Closing set from Queen Baby Cakes and opening duties from floor smasher Chaddy Daddy. DISCOUNTED entry for HOKU wristband holders. \n  \nSUPER NOVA FRIDAY\nPANCHO B2B SOLOMUNDO\nBABY CAKES\nCHADDY DADDY\n  \nANURA \nMIDNIGHT-DAWN | 1388 COLBURN ST. \nCENTEREDPRESENTS.COM \n 
URL:https://www.centeredpresents.com/event/lcb-presents-super-nova-friday-anura/
LOCATION:ANURA\, 1388 Colburn St.\, Honolulu\, HI\, 96817\, United States
ATTACH;FMTTYPE=image/jpeg:https://www.centeredpresents.com/wp-content/uploads/2026/04/EVENT-2.jpg
GEO:21.3230473;-157.8760741
X-APPLE-STRUCTURED-LOCATION;VALUE=URI;X-ADDRESS=ANURA 1388 Colburn St. Honolulu HI 96817 United States;X-APPLE-RADIUS=500;X-TITLE=1388 Colburn St.:geo:-157.8760741,21.3230473
END:VEVENT
END:VCALENDAR