BEGIN:VCALENDAR
VERSION:2.0
PRODID:-//CENTERED Hawaii - ECPv6.15.17.1//NONSGML v1.0//EN
CALSCALE:GREGORIAN
METHOD:PUBLISH
X-WR-CALNAME:CENTERED Hawaii
X-ORIGINAL-URL:https://www.centeredpresents.com
X-WR-CALDESC:Events for CENTERED Hawaii
REFRESH-INTERVAL;VALUE=DURATION:PT1H
X-Robots-Tag:noindex
X-PUBLISHED-TTL:PT1H
BEGIN:VTIMEZONE
TZID:Pacific/Honolulu
BEGIN:STANDARD
TZOFFSETFROM:-1000
TZOFFSETTO:-1000
TZNAME:HST
DTSTART:20230101T000000
END:STANDARD
END:VTIMEZONE
BEGIN:VEVENT
DTSTART;TZID=Pacific/Honolulu:20240731T210000
DTEND;TZID=Pacific/Honolulu:20240801T010000
DTSTAMP:20260419T092601
CREATED:20240730T212002Z
LAST-MODIFIED:20240730T212002Z
UID:12422-1722459600-1722474000@www.centeredpresents.com
SUMMARY:Centered Wednesdays @ Nextdoor | Andre Leone\, Bonya\, Space Sister
DESCRIPTION:July 31st\, 2024 \n  \nCENTERED WEDNESDAYS @ NEXTDOOR\n  \nANDRE LEONE\nBONYA\nSPACE SISTER\n  \nFREE WITH RSVP BEFORE 10PM \n9-1AM | 43 N HOTEL ST \nNEXTDOOR \nCENTEREDPRESENTS.COM
URL:https://www.centeredpresents.com/event/centered-wednesdays-nextdoor-andre-leone-bonya-space-sister/
LOCATION:NextDoor\, 43 North Hotel St.\, Honolulu\, HI\, 96817\, United States
ATTACH;FMTTYPE=image/jpeg:https://www.centeredpresents.com/wp-content/uploads/2024/07/centeredwedsbannerFeed-copy-1.jpg
GEO:21.3115136;-157.8625708
X-APPLE-STRUCTURED-LOCATION;VALUE=URI;X-ADDRESS=NextDoor 43 North Hotel St. Honolulu HI 96817 United States;X-APPLE-RADIUS=500;X-TITLE=43 North Hotel St.:geo:-157.8625708,21.3115136
END:VEVENT
END:VCALENDAR