BEGIN:VCALENDAR
VERSION:2.0
PRODID:-//CENTERED Hawaii - ECPv6.15.17.1//NONSGML v1.0//EN
CALSCALE:GREGORIAN
METHOD:PUBLISH
X-WR-CALNAME:CENTERED Hawaii
X-ORIGINAL-URL:https://www.centeredpresents.com
X-WR-CALDESC:Events for CENTERED Hawaii
REFRESH-INTERVAL;VALUE=DURATION:PT1H
X-Robots-Tag:noindex
X-PUBLISHED-TTL:PT1H
BEGIN:VTIMEZONE
TZID:Pacific/Honolulu
BEGIN:STANDARD
TZOFFSETFROM:-1000
TZOFFSETTO:-1000
TZNAME:HST
DTSTART:20220101T000000
END:STANDARD
END:VTIMEZONE
BEGIN:VEVENT
DTSTART;TZID=Pacific/Honolulu:20230729T235900
DTEND;TZID=Pacific/Honolulu:20230730T060000
DTSTAMP:20260419T002239
CREATED:20230729T232556Z
LAST-MODIFIED:20230730T202149Z
UID:3952-1690675140-1690696800@www.centeredpresents.com
SUMMARY:CENTERED PRESENTS | SAT\, July 29th | SOUNDSEX B2B CHADDY DADDY\, GIULI G +
DESCRIPTION:CENTERED APRESENTS | Saturday\, July 29th  | SOUNDSEX B2B CHADDY DADDY\, GIULI G\, BABYCAKES\, HIGHER CONCEPT\, KAYS\n\n\nCENTERED AFTERHOURS | Warehouse Experience  7/29/23 \n— \nCENTERED PRESENTS\, \n \nU﻿PSTAIRS:\n1﻿2-1A | GIULI G\n1-4 | SOUNDSEX B2B CHADDY DADDY\n4A-6 | BABYCAKES \n\nDOWNSTAIRS: \n1﻿2-3A | KAYS\n3A﻿-6 | HIGHER CONCEPT\n\n—\n2 STORY WAREHOUSE AFTERS – AETHER \nSound powered by: TRACTION AUDIO \nMIDNIGHT – DAWN \nÆTHER – 531 WAIAKAMILO RD\, HONOLULU HI  \n_______________________________________________ \n$40 DOOR | $25-$30 PRESALE | 21+ \n**********************
URL:https://www.centeredpresents.com/event/centered-presents-sat-july-29th-soundsex-b2b-chaddy-daddy-giuli-g/
LOCATION:43 N. Hotel St.\, Honolulu\, HI\, 96817\, United States
CATEGORIES:Music
ATTACH;FMTTYPE=image/jpeg:https://www.centeredpresents.com/wp-content/uploads/2023/07/3952_image.jpg
END:VEVENT
END:VCALENDAR