BEGIN:VCALENDAR
VERSION:2.0
PRODID:-//CENTERED Hawaii - ECPv6.15.17.1//NONSGML v1.0//EN
CALSCALE:GREGORIAN
METHOD:PUBLISH
X-WR-CALNAME:CENTERED Hawaii
X-ORIGINAL-URL:https://www.centeredpresents.com
X-WR-CALDESC:Events for CENTERED Hawaii
REFRESH-INTERVAL;VALUE=DURATION:PT1H
X-Robots-Tag:noindex
X-PUBLISHED-TTL:PT1H
BEGIN:VTIMEZONE
TZID:Pacific/Honolulu
BEGIN:STANDARD
TZOFFSETFROM:-1000
TZOFFSETTO:-1000
TZNAME:HST
DTSTART:20230101T000000
END:STANDARD
END:VTIMEZONE
BEGIN:VEVENT
DTSTART;TZID=Pacific/Honolulu:20240106T210000
DTEND;TZID=Pacific/Honolulu:20240107T013000
DTSTAMP:20260419T085701
CREATED:20231227T211134Z
LAST-MODIFIED:20240111T065303Z
UID:5312-1704574800-1704591000@www.centeredpresents.com
SUMMARY:Centered Presents\, RISE
DESCRIPTION:CENTERED PRESENTS\, \n\n\n\nRISE @ SKY WAIKIKI\n\n\n\nSOUNDSEX B2B JON CONSCIOUS\n\n\n\nHawaii’s premier rooftop club SKY WAIKIKI we present you RISE every First Saturday of the month.\n\n\n\nJAN 6ND\, 2024\, 9P-130AM (extended hours)\n\n\n\nFREE WITH RSVP FOR LOCAL ID \n\n\n\n— \n\n\n\nSKY WAIKIKI – 2270 Kalākaua Ave\, Honolulu\, HI 96815 | 21+ \n\n\n\nSound powered by: MARTIN AUDIO \n\n\n\n9PM-130AM
URL:https://www.centeredpresents.com/event/centered-presents-rise/
LOCATION:SKY WAIKIKI\, 2270 Kalākaua Ave\, Honolulu\, HI 96815\, Honolulu\, HI\, 96815\, US
CATEGORIES:Music
ATTACH;FMTTYPE=image/png:https://www.centeredpresents.com/wp-content/uploads/2023/12/riseFacebook-1-1.png
GEO:21.2790725;-157.827927
X-APPLE-STRUCTURED-LOCATION;VALUE=URI;X-ADDRESS=SKY WAIKIKI 2270 Kalākaua Ave Honolulu HI 96815 Honolulu HI 96815 US;X-APPLE-RADIUS=500;X-TITLE=2270 Kalākaua Ave\, Honolulu\, HI 96815:geo:-157.827927,21.2790725
END:VEVENT
END:VCALENDAR