BEGIN:VCALENDAR
VERSION:2.0
PRODID:-//CENTERED Hawaii - ECPv6.15.17.1//NONSGML v1.0//EN
CALSCALE:GREGORIAN
METHOD:PUBLISH
X-WR-CALNAME:CENTERED Hawaii
X-ORIGINAL-URL:https://www.centeredpresents.com
X-WR-CALDESC:Events for CENTERED Hawaii
REFRESH-INTERVAL;VALUE=DURATION:PT1H
X-Robots-Tag:noindex
X-PUBLISHED-TTL:PT1H
BEGIN:VTIMEZONE
TZID:Pacific/Honolulu
BEGIN:STANDARD
TZOFFSETFROM:-1000
TZOFFSETTO:-1000
TZNAME:HST
DTSTART:20230101T000000
END:STANDARD
END:VTIMEZONE
BEGIN:VEVENT
DTSTART;TZID=Pacific/Honolulu:20240105T220000
DTEND;TZID=Pacific/Honolulu:20240106T020000
DTSTAMP:20260420T175510
CREATED:20231227T204301Z
LAST-MODIFIED:20240111T065304Z
UID:5305-1704492000-1704506400@www.centeredpresents.com
SUMMARY:Centered Presents\, Psycho Glam! Fridays
DESCRIPTION:Centered presents\, \n\n\n\nPSYCHO GLAM!  \n\n\n\nEvery Friday at Nextdoor\, Chinatown Honolulu. \n\n\n\n \n\n\n\nWe’re excited to bring you a new era for Centered Hawaii\, PSYCHO GLAM! \n\n\n\nDress in your grooviest 70’s attire and meet us under the disco ball for a night of classic disco\, nu-disco\, indie-disco\, italo disco and house music rinsed by your Centered Residents + Guest DJ’s.  \n\n\n\nIt’s a Disco-Delight at Psycho Glam! Sip on some retro drinks at the funkiest bar in town every Friday starting January 5th\, 2024. \n\n\n\nNo Cover with RSVP every week (some First Friday exceptions). 21+
URL:https://www.centeredpresents.com/event/centered-presents-psycho-glam-fridays/
LOCATION:NextDoor\, 43 North Hotel St.\, Honolulu\, HI\, 96817\, United States
CATEGORIES:Music
ATTACH;FMTTYPE=image/png:https://www.centeredpresents.com/wp-content/uploads/2023/12/psychoglamEvent.png
GEO:21.3115136;-157.8625708
X-APPLE-STRUCTURED-LOCATION;VALUE=URI;X-ADDRESS=NextDoor 43 North Hotel St. Honolulu HI 96817 United States;X-APPLE-RADIUS=500;X-TITLE=43 North Hotel St.:geo:-157.8625708,21.3115136
END:VEVENT
END:VCALENDAR