BEGIN:VCALENDAR
VERSION:2.0
PRODID:-//CENTERED Hawaii - ECPv6.15.17.1//NONSGML v1.0//EN
CALSCALE:GREGORIAN
METHOD:PUBLISH
X-WR-CALNAME:CENTERED Hawaii
X-ORIGINAL-URL:https://www.centeredpresents.com
X-WR-CALDESC:Events for CENTERED Hawaii
REFRESH-INTERVAL;VALUE=DURATION:PT1H
X-Robots-Tag:noindex
X-PUBLISHED-TTL:PT1H
BEGIN:VTIMEZONE
TZID:Pacific/Honolulu
BEGIN:STANDARD
TZOFFSETFROM:-1000
TZOFFSETTO:-1000
TZNAME:HST
DTSTART:20220101T000000
END:STANDARD
END:VTIMEZONE
BEGIN:VEVENT
DTSTART;TZID=Pacific/Honolulu:20231020T235900
DTEND;TZID=Pacific/Honolulu:20231021T060000
DTSTAMP:20260420T003611
CREATED:20231004T224327Z
LAST-MODIFIED:20231021T082125Z
UID:4495-1697846340-1697868000@www.centeredpresents.com
SUMMARY:Centered Afterhours | Oct 20th | KEOKI x SOUNDSEX | HNL PRIDE AFTERPARTY
DESCRIPTION:CENTERED AFTERHOURS | Oct 20th | HONOLULU PRIDE AFTERPARTY | KEOKI x SOUNDSEX\, LITTLE DINOSAUR\, GIULI G\, GARDEL LEAL\, SOLOMUNDO\, KAYS\, HI-C\n\n\nCENTERED AFTERHOURS | Warehouse Experience  10/20/23 \n— \nCENTERED PRESENTS\, \n \nO﻿FFICIAL PRIDE HONOLULU AFTERPARTY\n \nU﻿PSTAIRS:\nMIDNIGHT-130A | GIULI G \n1﻿30-230A | LITTLE DINOSAUR\n230-430A | KEOKI B2B SOUNDSEX\n430-6A | GARDEL LEAL\n\nDOWNSTAIRS: \nMIDNIGHT-2AM | HIGHER CONCEPT\n2﻿AM-4AM | SOLOMUNDO\n4﻿AM-6AM | KAYS\n\nLANAI: \nTBA\n\n—\n2 STORY WAREHOUSE AFTERS – AETHER \nSound powered by: TRACTION AUDIO \nMIDNIGHT – DAWN \nÆTHER – 531 WAIAKAMILO RD\, HONOLULU HI  \n_______________________________________________ \n$40 DOOR | $25-$30 PRESALE | 21+ \n**********************
URL:https://www.centeredpresents.com/event/centered-afterhours-oct-20th-keoki-x-soundsex-hnl-pride-afterparty/
LOCATION:43 N. Hotel St.\, Honolulu\, HI\, 96817\, United States
CATEGORIES:Music
ATTACH;FMTTYPE=image/jpeg:https://www.centeredpresents.com/wp-content/uploads/2023/10/4495_image.jpg
END:VEVENT
END:VCALENDAR