BEGIN:VCALENDAR
VERSION:2.0
PRODID:-//CENTERED Hawaii - ECPv6.15.17.1//NONSGML v1.0//EN
CALSCALE:GREGORIAN
METHOD:PUBLISH
X-WR-CALNAME:CENTERED Hawaii
X-ORIGINAL-URL:https://www.centeredpresents.com
X-WR-CALDESC:Events for CENTERED Hawaii
REFRESH-INTERVAL;VALUE=DURATION:PT1H
X-Robots-Tag:noindex
X-PUBLISHED-TTL:PT1H
BEGIN:VTIMEZONE
TZID:Pacific/Honolulu
BEGIN:STANDARD
TZOFFSETFROM:-1000
TZOFFSETTO:-1000
TZNAME:HST
DTSTART:20220101T000000
END:STANDARD
END:VTIMEZONE
BEGIN:VEVENT
DTSTART;TZID=Pacific/Honolulu:20231124T235900
DTEND;TZID=Pacific/Honolulu:20231125T060000
DTSTAMP:20260420T022104
CREATED:20231116T225039Z
LAST-MODIFIED:20240111T065314Z
UID:4702-1700870340-1700892000@www.centeredpresents.com
SUMMARY:Centered Afterhours | BOMBOSSA BROTHERS | Nov 24th
DESCRIPTION:BOMBOSSA BROTHERS x ASCENSION BLACK\n\n\nCENTERED AFTERHOURS | Warehouse Experience 11/24/23 \n— \nCENTERED PRESENTS\, \n \nUPSTAIRS:\nBOMBOSSA BROTHERS\n\nBombossa Brothers are twins known under names Artur and Marek. They are two interesting personalities with one big and single goal: Toentertain as many people as possible with their groovy melodic sound. Their latest release from on Get Physical Music called “La Playita feat. TotóLa Momposina” & Yulia Niko reached Beatport Top1 position on afro-housecharts and hold this position for 2 months. Their music has beensupported by artists like: Bedouin\, Marco Carola\, Roger Sanchez\, Claptoneand many more. For the last couple of years they have build up their reputation as duo towatch by playing around the world and being a very successful promoterswith their event series Momentum hosting up to 1500 people. Brothers have played together at events with artists like: Jan Blomqvist\, WhoMadeWho\, Monolink\, Argy\, Adriatique\, Hosh\, Damian Lazarus\, AdanaTwins\, Kollektiv Turmstrasse\, Sainte Vie\, Eelke Kleijn\, Seth Schwarz\, Detroit Swindle and Dennis Cruz just to name few. They have been touring in places like: Bali\, Mexico\, Spain\, Thailand\, Italy\, UK\, UAE\, Belgium\, Sweden\, Finland and Estonia. Bombossa twins have also lived for multiple seasons in Ibiza and holding weekly residency at different events and playing at clubs like: Amnesia\, Sankeys\, Pacha\, Eden and Nikki Beach Ibiza. New year will bring a lot of new music releases and big bookings for their Momentum event series – keep an eye on this talented duo. \n\nLINKS: \nInstagram: www.instagram.com/bombossabrothers \nSoundcloud: https://soundcloud.com/bombossa-brothers \nFacebook: www.facebook.com/bombossabrothers \nLatest mixtapes & video live streams:  \nBombossa Brothers live from Momentum with Adriatique \n \nBombossa Brothers live from Momentum with Jan Blomqvist  \n \nVideo livestream from Ephimera Tulum \nhttps://youtu.be/gfMObCV7C84 \nsupport:\nALARI TEEDE \nZEGAN \nLAIVAN\nSOUNDSEX \n\n– –\nDOWNSTAIRS:\nASCENSION BLACK\nAKADIA \nMARCOAST \nPANCHO \nZAYTEK \n \n—\n2 STORY WAREHOUSE AFTERS – AETHER \nSound powered by: TRACTION AUDIO \nMIDNIGHT – DAWN \nÆTHER – 531 WAIAKAMILO RD\, HONOLULU HI \n_______________________________________________ \n$40 DOOR | $25 PRESALE | 21+ \n**********************
URL:https://www.centeredpresents.com/event/centered-afterhours-bombossa-brothers-nov-24th/
CATEGORIES:Music
ATTACH;FMTTYPE=image/jpeg:https://www.centeredpresents.com/wp-content/uploads/2023/11/4702_image.jpg
END:VEVENT
END:VCALENDAR