BEGIN:VCALENDAR
VERSION:2.0
PRODID:-//CENTERED Hawaii - ECPv6.15.17.1//NONSGML v1.0//EN
CALSCALE:GREGORIAN
METHOD:PUBLISH
X-WR-CALNAME:CENTERED Hawaii
X-ORIGINAL-URL:https://www.centeredpresents.com
X-WR-CALDESC:Events for CENTERED Hawaii
REFRESH-INTERVAL;VALUE=DURATION:PT1H
X-Robots-Tag:noindex
X-PUBLISHED-TTL:PT1H
BEGIN:VTIMEZONE
TZID:Pacific/Honolulu
BEGIN:STANDARD
TZOFFSETFROM:-1000
TZOFFSETTO:-1000
TZNAME:HST
DTSTART:20230101T000000
END:STANDARD
END:VTIMEZONE
BEGIN:VEVENT
DTSTART;TZID=Pacific/Honolulu:20241109T235900
DTEND;TZID=Pacific/Honolulu:20241110T060000
DTSTAMP:20260419T155931
CREATED:20241106T025907Z
LAST-MODIFIED:20241106T025907Z
UID:14877-1731196740-1731218400@www.centeredpresents.com
SUMMARY:Centered Afterhours\, Baby Cakes\, Tropic Bomba\, MOOI b2b Margot Bloom\, Lufa\, Hi-C
DESCRIPTION:Saturday\, Nov 9th \n  \nCENTERED AFTERHOURS @ ANURA\n  \nUpstairs: \n12-130A | MOOI B2B MARGOT BLOOM\n130-3 | BABY CAKES\n3-5 | TROPIC BOMBA\n5-6A | RESIDENTS\n  \nDownstairs: \nLUFA & HIGHER CONCEPT (ALL NIGHT)\n  \nMeet us at Hawaii’s only two story afterhours warehouse every weekend for Centered After Hours featuring international and local DJ’s all night long. \n  \nANURA \nMidnight-Dawn \ncenteredpresents.com \n  \n\n 
URL:https://www.centeredpresents.com/event/centered-afterhours-baby-cakes-tropic-bomba-mooi-b2b-margot-bloom-lufa-hi-c/
LOCATION:ANURA\, 1388 Colburn St.\, Honolulu\, HI\, 96817\, United States
ATTACH;FMTTYPE=image/png:https://www.centeredpresents.com/wp-content/uploads/2024/11/11.9after.png
GEO:21.3230473;-157.8760741
X-APPLE-STRUCTURED-LOCATION;VALUE=URI;X-ADDRESS=ANURA 1388 Colburn St. Honolulu HI 96817 United States;X-APPLE-RADIUS=500;X-TITLE=1388 Colburn St.:geo:-157.8760741,21.3230473
END:VEVENT
END:VCALENDAR